BEGIN:VCALENDAR
VERSION:2.0
PRODID:-//Lakewood Music Boosters - ECPv6.15.20//NONSGML v1.0//EN
CALSCALE:GREGORIAN
METHOD:PUBLISH
X-ORIGINAL-URL:https://lakewoodmusicboosters.com
X-WR-CALDESC:Events for Lakewood Music Boosters
REFRESH-INTERVAL;VALUE=DURATION:PT1H
X-Robots-Tag:noindex
X-PUBLISHED-TTL:PT1H
BEGIN:VTIMEZONE
TZID:America/New_York
BEGIN:DAYLIGHT
TZOFFSETFROM:-0500
TZOFFSETTO:-0400
TZNAME:EDT
DTSTART:20220313T070000
END:DAYLIGHT
BEGIN:STANDARD
TZOFFSETFROM:-0400
TZOFFSETTO:-0500
TZNAME:EST
DTSTART:20221106T060000
END:STANDARD
BEGIN:DAYLIGHT
TZOFFSETFROM:-0500
TZOFFSETTO:-0400
TZNAME:EDT
DTSTART:20230312T070000
END:DAYLIGHT
BEGIN:STANDARD
TZOFFSETFROM:-0400
TZOFFSETTO:-0500
TZNAME:EST
DTSTART:20231105T060000
END:STANDARD
BEGIN:DAYLIGHT
TZOFFSETFROM:-0500
TZOFFSETTO:-0400
TZNAME:EDT
DTSTART:20240310T070000
END:DAYLIGHT
BEGIN:STANDARD
TZOFFSETFROM:-0400
TZOFFSETTO:-0500
TZNAME:EST
DTSTART:20241103T060000
END:STANDARD
END:VTIMEZONE
BEGIN:VEVENT
DTSTART;TZID=America/New_York:20230208T190000
DTEND;TZID=America/New_York:20230208T203000
DTSTAMP:20260421T191216
CREATED:20230102T132921Z
LAST-MODIFIED:20230208T125358Z
UID:31546-1675882800-1675888200@lakewoodmusicboosters.com
SUMMARY:PTA Reflections
DESCRIPTION:More information coming soon!
URL:https://lakewoodmusicboosters.com/event/pta-reflections-2/
LOCATION:Garfield Middle School\, 13114 Detroit Ave\,\, Lakewood\, OH\, United States
END:VEVENT
BEGIN:VEVENT
DTSTART;TZID=America/New_York:20230208T190000
DTEND;TZID=America/New_York:20230208T210000
DTSTAMP:20260421T191216
CREATED:20230112T230758Z
LAST-MODIFIED:20230113T044041Z
UID:31887-1675882800-1675890000@lakewoodmusicboosters.com
SUMMARY:Lakewood Sings!
DESCRIPTION:Another District favorite is back! Lakewood Sings (formerly the Elementary Choral Festival) features Choirs from Emerson Elementary\, Grant Elementary\, Harrison Elementary\, Hayes Elementary\, Horace Mann Elementary\, Lincoln Elementary\, and Roosevelt Elementary\, Garfield and Harding Middle Schools\, and Lakewood High School will perform separately and together. This concert is free and open to the public. \nLivestream can be found here. \nYOU WON’T WANT TO MISS THIS!
URL:https://lakewoodmusicboosters.com/event/lakewood-sings-2/
LOCATION:Lakewood Civic Auditorium
END:VEVENT
END:VCALENDAR