BEGIN:VCALENDAR
VERSION:2.0
PRODID:-//Lakewood Music Boosters - ECPv6.15.20//NONSGML v1.0//EN
CALSCALE:GREGORIAN
METHOD:PUBLISH
X-WR-CALNAME:Lakewood Music Boosters
X-ORIGINAL-URL:https://lakewoodmusicboosters.com
X-WR-CALDESC:Events for Lakewood Music Boosters
REFRESH-INTERVAL;VALUE=DURATION:PT1H
X-Robots-Tag:noindex
X-PUBLISHED-TTL:PT1H
BEGIN:VTIMEZONE
TZID:America/New_York
BEGIN:DAYLIGHT
TZOFFSETFROM:-0500
TZOFFSETTO:-0400
TZNAME:EDT
DTSTART:20220313T070000
END:DAYLIGHT
BEGIN:STANDARD
TZOFFSETFROM:-0400
TZOFFSETTO:-0500
TZNAME:EST
DTSTART:20221106T060000
END:STANDARD
BEGIN:DAYLIGHT
TZOFFSETFROM:-0500
TZOFFSETTO:-0400
TZNAME:EDT
DTSTART:20230312T070000
END:DAYLIGHT
BEGIN:STANDARD
TZOFFSETFROM:-0400
TZOFFSETTO:-0500
TZNAME:EST
DTSTART:20231105T060000
END:STANDARD
BEGIN:DAYLIGHT
TZOFFSETFROM:-0500
TZOFFSETTO:-0400
TZNAME:EDT
DTSTART:20240310T070000
END:DAYLIGHT
BEGIN:STANDARD
TZOFFSETFROM:-0400
TZOFFSETTO:-0500
TZNAME:EST
DTSTART:20241103T060000
END:STANDARD
END:VTIMEZONE
BEGIN:VEVENT
DTSTART;TZID=America/New_York:20230121T193000
DTEND;TZID=America/New_York:20230121T213000
DTSTAMP:20260421T172858
CREATED:20221115T023209Z
LAST-MODIFIED:20230113T190425Z
UID:30759-1674329400-1674336600@lakewoodmusicboosters.com
SUMMARY:Lakewood Project Space Concert
DESCRIPTION:THIS CONCERT WILL BE OUT OF THIS WORLD! \nThe Lakewood Project takes a trip to outer space performing music by David Bowie\, Elton John\, Europe\, Queen\, Dua Lipa\, The Weeknd\, Muse\, One Republic\, The Who\, Bananrama\, Train and more! \nAdvanced Tickets – $8 Adult\, $4 Student.    Advanced tickets including family pack options (save on fees!) at Payschools   \nDay of concert \,Cash Sales at the door or credit card online\,   $10 Adult\, $7 Student \nLivestream available here.
URL:https://lakewoodmusicboosters.com/event/lakewood-project/
LOCATION:Lakewood Civic Auditorium
ATTACH;FMTTYPE=image/jpeg:https://lakewoodmusicboosters.com/wp-content/uploads/2022/11/324878430_728314918720152_7924587568000766969_n.jpg
END:VEVENT
END:VCALENDAR