BEGIN:VCALENDAR
VERSION:2.0
PRODID:-//Lakewood Music Boosters - ECPv6.15.20//NONSGML v1.0//EN
CALSCALE:GREGORIAN
METHOD:PUBLISH
X-WR-CALNAME:Lakewood Music Boosters
X-ORIGINAL-URL:https://lakewoodmusicboosters.com
X-WR-CALDESC:Events for Lakewood Music Boosters
REFRESH-INTERVAL;VALUE=DURATION:PT1H
X-Robots-Tag:noindex
X-PUBLISHED-TTL:PT1H
BEGIN:VTIMEZONE
TZID:America/New_York
BEGIN:DAYLIGHT
TZOFFSETFROM:-0500
TZOFFSETTO:-0400
TZNAME:EDT
DTSTART:20230312T070000
END:DAYLIGHT
BEGIN:STANDARD
TZOFFSETFROM:-0400
TZOFFSETTO:-0500
TZNAME:EST
DTSTART:20231105T060000
END:STANDARD
BEGIN:DAYLIGHT
TZOFFSETFROM:-0500
TZOFFSETTO:-0400
TZNAME:EDT
DTSTART:20240310T070000
END:DAYLIGHT
BEGIN:STANDARD
TZOFFSETFROM:-0400
TZOFFSETTO:-0500
TZNAME:EST
DTSTART:20241103T060000
END:STANDARD
BEGIN:DAYLIGHT
TZOFFSETFROM:-0500
TZOFFSETTO:-0400
TZNAME:EDT
DTSTART:20250309T070000
END:DAYLIGHT
BEGIN:STANDARD
TZOFFSETFROM:-0400
TZOFFSETTO:-0500
TZNAME:EST
DTSTART:20251102T060000
END:STANDARD
END:VTIMEZONE
BEGIN:VEVENT
DTSTART;TZID=America/New_York:20241003T190000
DTEND;TZID=America/New_York:20241003T200000
DTSTAMP:20260423T023019
CREATED:20240919T205405Z
LAST-MODIFIED:20241001T132432Z
UID:38962-1727982000-1727985600@lakewoodmusicboosters.com
SUMMARY:Orchestra POPS Concert
DESCRIPTION:Check for volunteer opportunities on SignUp Genius!
URL:https://lakewoodmusicboosters.com/event/orchestra-pops-concert-5/
LOCATION:Lakewood Civic Auditorium
CATEGORIES:event
END:VEVENT
END:VCALENDAR