BEGIN:VCALENDAR
VERSION:2.0
PRODID:-//Lakewood Music Boosters - ECPv6.15.20//NONSGML v1.0//EN
CALSCALE:GREGORIAN
METHOD:PUBLISH
X-ORIGINAL-URL:https://lakewoodmusicboosters.com
X-WR-CALDESC:Events for Lakewood Music Boosters
REFRESH-INTERVAL;VALUE=DURATION:PT1H
X-Robots-Tag:noindex
X-PUBLISHED-TTL:PT1H
BEGIN:VTIMEZONE
TZID:America/New_York
BEGIN:DAYLIGHT
TZOFFSETFROM:-0500
TZOFFSETTO:-0400
TZNAME:EDT
DTSTART:20230312T070000
END:DAYLIGHT
BEGIN:STANDARD
TZOFFSETFROM:-0400
TZOFFSETTO:-0500
TZNAME:EST
DTSTART:20231105T060000
END:STANDARD
BEGIN:DAYLIGHT
TZOFFSETFROM:-0500
TZOFFSETTO:-0400
TZNAME:EDT
DTSTART:20240310T070000
END:DAYLIGHT
BEGIN:STANDARD
TZOFFSETFROM:-0400
TZOFFSETTO:-0500
TZNAME:EST
DTSTART:20241103T060000
END:STANDARD
BEGIN:DAYLIGHT
TZOFFSETFROM:-0500
TZOFFSETTO:-0400
TZNAME:EDT
DTSTART:20250309T070000
END:DAYLIGHT
BEGIN:STANDARD
TZOFFSETFROM:-0400
TZOFFSETTO:-0500
TZNAME:EST
DTSTART:20251102T060000
END:STANDARD
END:VTIMEZONE
BEGIN:VEVENT
DTSTART;TZID=America/New_York:20240921T160000
DTEND;TZID=America/New_York:20240921T220000
DTSTAMP:20260423T020953
CREATED:20240918T204722Z
LAST-MODIFIED:20240918T204722Z
UID:38937-1726934400-1726956000@lakewoodmusicboosters.com
SUMMARY:Volunteer Opportunity: 37th Annual Marching Band Festival
DESCRIPTION:Join us on Saturday\, September 21\, 2024\, at First Federal Lakewood Stadium for a night of music and community.\n\n\nThis event aims to raise nearly $20\,000 for our band program\, but it won’t be possible without YOU!\n\n\nWe need 60+ volunteers to keep the night running smoothly. So grab a friend\, sign up\, and enjoy the festival with us.\n\n\nEvery volunteer gets FREE entry into the event\, and you’ll earn volunteer points too!\n\n\nCheck out the signup sheet below to reserve your spot. Let’s make this night one to remember.\n\n\nThank you for your support!\n\n\n\n\n\nShow your support and sign up to volunteer!
URL:https://lakewoodmusicboosters.com/event/volunteer-mbf-2024/
LOCATION:Lakewood High Stadium\, 14100 Franklin Blvd\, Lakewood\, Ohio\, 44107
END:VEVENT
END:VCALENDAR