BEGIN:VCALENDAR
VERSION:2.0
PRODID:-//Lakewood Music Boosters - ECPv6.15.20//NONSGML v1.0//EN
CALSCALE:GREGORIAN
METHOD:PUBLISH
X-WR-CALNAME:Lakewood Music Boosters
X-ORIGINAL-URL:https://lakewoodmusicboosters.com
X-WR-CALDESC:Events for Lakewood Music Boosters
REFRESH-INTERVAL;VALUE=DURATION:PT1H
X-Robots-Tag:noindex
X-PUBLISHED-TTL:PT1H
BEGIN:VTIMEZONE
TZID:America/New_York
BEGIN:DAYLIGHT
TZOFFSETFROM:-0500
TZOFFSETTO:-0400
TZNAME:EDT
DTSTART:20240310T070000
END:DAYLIGHT
BEGIN:STANDARD
TZOFFSETFROM:-0400
TZOFFSETTO:-0500
TZNAME:EST
DTSTART:20241103T060000
END:STANDARD
BEGIN:DAYLIGHT
TZOFFSETFROM:-0500
TZOFFSETTO:-0400
TZNAME:EDT
DTSTART:20250309T070000
END:DAYLIGHT
BEGIN:STANDARD
TZOFFSETFROM:-0400
TZOFFSETTO:-0500
TZNAME:EST
DTSTART:20251102T060000
END:STANDARD
BEGIN:DAYLIGHT
TZOFFSETFROM:-0500
TZOFFSETTO:-0400
TZNAME:EDT
DTSTART:20260308T070000
END:DAYLIGHT
BEGIN:STANDARD
TZOFFSETFROM:-0400
TZOFFSETTO:-0500
TZNAME:EST
DTSTART:20261101T060000
END:STANDARD
END:VTIMEZONE
BEGIN:VEVENT
DTSTART;VALUE=DATE:20250104
DTEND;VALUE=DATE:20250216
DTSTAMP:20260422T064955
CREATED:20250105T005439Z
LAST-MODIFIED:20250105T005439Z
UID:39216-1735948800-1739663999@lakewoodmusicboosters.com
SUMMARY:Dave and Busters Power Card Fundraiser
DESCRIPTION:Lakewood Music Boosters is pumped to launch our Dave & Buster’s Power Card Fundraising Campaign! When you purchase a Dave & Buster’s Power Card from our fundraising page\, 50% of your order directly supports Lakewood Music Boosters! 🎯🎉 Whether it’s classic arcade thrills\, action-packed racing\, or multiplayer challenge\, enjoy endless gaming fun at any Dave & Buster’s location nationwide when you purchase your Power Card at the link below. Don’t forget to share it with friends and family to join in the fun: grouprai.se/davebusters51023m.
URL:https://lakewoodmusicboosters.com/event/dave-and-busters-power-card-fundraiser/
END:VEVENT
BEGIN:VEVENT
DTSTART;TZID=America/New_York:20250120T080000
DTEND;TZID=America/New_York:20250205T170000
DTSTAMP:20260422T064955
CREATED:20250120T160744Z
LAST-MODIFIED:20250120T161755Z
UID:39241-1737360000-1738774800@lakewoodmusicboosters.com
SUMMARY:Krispy Kreme Digital Dozens Fundraiser
DESCRIPTION:Click here
URL:https://lakewoodmusicboosters.com/event/krispie-kreme-digital-dozens-fundraiser/
END:VEVENT
BEGIN:VEVENT
DTSTART;TZID=America/New_York:20250207T190000
DTEND;TZID=America/New_York:20250207T210000
DTSTAMP:20260422T064955
CREATED:20250123T181650Z
LAST-MODIFIED:20250123T181650Z
UID:39264-1738954800-1738962000@lakewoodmusicboosters.com
SUMMARY:LHS Dance Show
DESCRIPTION:Livestream
URL:https://lakewoodmusicboosters.com/event/lhs-dance-show/
LOCATION:Lakewood Civic Auditorium
END:VEVENT
BEGIN:VEVENT
DTSTART;TZID=America/New_York:20250212T190000
DTEND;TZID=America/New_York:20250212T210000
DTSTAMP:20260422T064955
CREATED:20250123T181830Z
LAST-MODIFIED:20250123T181830Z
UID:39266-1739386800-1739394000@lakewoodmusicboosters.com
SUMMARY:Lakewood Sings!
DESCRIPTION:Livestream
URL:https://lakewoodmusicboosters.com/event/lakewood-sings/
LOCATION:Lakewood Civic Auditorium
END:VEVENT
BEGIN:VEVENT
DTSTART;TZID=America/New_York:20250226T190000
DTEND;TZID=America/New_York:20250226T210000
DTSTAMP:20260422T064955
CREATED:20250123T181953Z
LAST-MODIFIED:20250220T034521Z
UID:39268-1740596400-1740603600@lakewoodmusicboosters.com
SUMMARY:Lakewood Jazz Festival
DESCRIPTION:Lakewood Jazz Festival 2025\nCome hear all of Lakewood’s jazz groups perform on one night! The Garfield and Harding Middle School Jazz Bands\, LHS Jazz Workshop\, and LHS Jazz Band will present a night of music ranging from swing to funk and rock. \nAdults:    $2.00 \nStudent & Senior:    $1.00 \nCouple’s Ticket (2 Adults):   $4.00 \nFamily Ticket (2 Adults and 2 students/seniors):  $6 \nTickets \nVolunteer \nLivestream
URL:https://lakewoodmusicboosters.com/event/lakewood-jazz-festival-2/
LOCATION:Lakewood Civic Auditorium
END:VEVENT
END:VCALENDAR