BEGIN:VCALENDAR
VERSION:2.0
PRODID:-//Lakewood Music Boosters - ECPv6.15.20//NONSGML v1.0//EN
CALSCALE:GREGORIAN
METHOD:PUBLISH
X-WR-CALNAME:Lakewood Music Boosters
X-ORIGINAL-URL:https://lakewoodmusicboosters.com
X-WR-CALDESC:Events for Lakewood Music Boosters
REFRESH-INTERVAL;VALUE=DURATION:PT1H
X-Robots-Tag:noindex
X-PUBLISHED-TTL:PT1H
BEGIN:VTIMEZONE
TZID:America/New_York
BEGIN:DAYLIGHT
TZOFFSETFROM:-0500
TZOFFSETTO:-0400
TZNAME:EDT
DTSTART:20230312T070000
END:DAYLIGHT
BEGIN:STANDARD
TZOFFSETFROM:-0400
TZOFFSETTO:-0500
TZNAME:EST
DTSTART:20231105T060000
END:STANDARD
BEGIN:DAYLIGHT
TZOFFSETFROM:-0500
TZOFFSETTO:-0400
TZNAME:EDT
DTSTART:20240310T070000
END:DAYLIGHT
BEGIN:STANDARD
TZOFFSETFROM:-0400
TZOFFSETTO:-0500
TZNAME:EST
DTSTART:20241103T060000
END:STANDARD
BEGIN:DAYLIGHT
TZOFFSETFROM:-0500
TZOFFSETTO:-0400
TZNAME:EDT
DTSTART:20250309T070000
END:DAYLIGHT
BEGIN:STANDARD
TZOFFSETFROM:-0400
TZOFFSETTO:-0500
TZNAME:EST
DTSTART:20251102T060000
END:STANDARD
END:VTIMEZONE
BEGIN:VEVENT
DTSTART;TZID=America/New_York:20241206T190000
DTEND;TZID=America/New_York:20241206T190000
DTSTAMP:20260422T034611
CREATED:20241125T205115Z
LAST-MODIFIED:20241125T205307Z
UID:39180-1733511600-1733511600@lakewoodmusicboosters.com
SUMMARY:Sounds of The Season Concert
DESCRIPTION:On-line Tickets https://www.payschoolsevents.com/events/details/36857 \nLivestream: https://www.youtube.com/watch?v=5sjsN6imvoM
URL:https://lakewoodmusicboosters.com/event/sounds-of-the-season-concert-2/
END:VEVENT
BEGIN:VEVENT
DTSTART;TZID=America/New_York:20241207T110000
DTEND;TZID=America/New_York:20241207T150000
DTSTAMP:20260422T034611
CREATED:20241125T202135Z
LAST-MODIFIED:20241204T183031Z
UID:39158-1733569200-1733583600@lakewoodmusicboosters.com
SUMMARY:LHS Light Up Lakewood and Brunch with Santa
DESCRIPTION:Brunch with Santa Tickets and details  https://givebutter.com/1a4NsD \nVolunteer here
URL:https://lakewoodmusicboosters.com/event/lhs-light-up-lakewood-and-brunch-with-santa/
END:VEVENT
BEGIN:VEVENT
DTSTART;TZID=America/New_York:20241210T190000
DTEND;TZID=America/New_York:20241210T190000
DTSTAMP:20260422T034611
CREATED:20241125T212649Z
LAST-MODIFIED:20241206T175657Z
UID:39182-1733857200-1733857200@lakewoodmusicboosters.com
SUMMARY:Silver and Gold Concert
DESCRIPTION:Online tickets: https://www.payschoolsevents.com/events/details/37200 \n  \nLivestream: https://www.youtube.com/watch?v=wPJrh9vaMEc
URL:https://lakewoodmusicboosters.com/event/silver-and-gold-concert-2/
END:VEVENT
BEGIN:VEVENT
DTSTART;TZID=America/New_York:20241211T190000
DTEND;TZID=America/New_York:20241211T190000
DTSTAMP:20260422T034611
CREATED:20241125T204559Z
LAST-MODIFIED:20241125T204618Z
UID:39176-1733943600-1733943600@lakewoodmusicboosters.com
SUMMARY:7th Grade Winter Concert
DESCRIPTION:On-line ticket sales https://www.payschoolsevents.com/events/details/36932 \nLivestream link https://www.youtube.com/watch?v=DLMYywzCQ3A
URL:https://lakewoodmusicboosters.com/event/7th-grade-winter-concert-2/
END:VEVENT
BEGIN:VEVENT
DTSTART;TZID=America/New_York:20241212T190000
DTEND;TZID=America/New_York:20241212T190000
DTSTAMP:20260422T034611
CREATED:20241126T160411Z
LAST-MODIFIED:20241209T025336Z
UID:39192-1734030000-1734030000@lakewoodmusicboosters.com
SUMMARY:LHS and 8th Grade Choral Concert
DESCRIPTION:  \nPayschools link:https://www.payschoolsevents.com/events/details/35555 \nLivestream https://www.youtube.com/watch?v=gZ-FI81t8Kw \nVolunteer here
URL:https://lakewoodmusicboosters.com/event/lhs-and-8th-grade-choral-concert/
END:VEVENT
BEGIN:VEVENT
DTSTART;TZID=America/New_York:20241217T190000
DTEND;TZID=America/New_York:20241217T190000
DTSTAMP:20260422T034611
CREATED:20241125T204127Z
LAST-MODIFIED:20241125T212847Z
UID:39172-1734462000-1734462000@lakewoodmusicboosters.com
SUMMARY:8th Grade Instrumental Winter Concert
DESCRIPTION:On-line ticket sales https://www.payschoolsevents.com/events/details/36931 \nLivestream link https://www.youtube.com/watch?v=hnzb6w2oprg
URL:https://lakewoodmusicboosters.com/event/8th-grade-instrumental-winter-concert/
END:VEVENT
BEGIN:VEVENT
DTSTART;TZID=America/New_York:20241218T190000
DTEND;TZID=America/New_York:20241218T190000
DTSTAMP:20260422T034611
CREATED:20241125T204659Z
LAST-MODIFIED:20241125T213046Z
UID:39178-1734548400-1734548400@lakewoodmusicboosters.com
SUMMARY:6th Grade Winter Concert
DESCRIPTION:On-line ticket sales https://www.payschoolsevents.com/events/details/36933 \nLivestream Link https://www.youtube.com/watch?v=APrVxITd6rI
URL:https://lakewoodmusicboosters.com/event/6th-grade-winter-concert-3/
CATEGORIES:event
END:VEVENT
END:VCALENDAR