BEGIN:VCALENDAR
VERSION:2.0
PRODID:-//Lakewood Music Boosters - ECPv6.15.20//NONSGML v1.0//EN
CALSCALE:GREGORIAN
METHOD:PUBLISH
X-WR-CALNAME:Lakewood Music Boosters
X-ORIGINAL-URL:https://lakewoodmusicboosters.com
X-WR-CALDESC:Events for Lakewood Music Boosters
REFRESH-INTERVAL;VALUE=DURATION:PT1H
X-Robots-Tag:noindex
X-PUBLISHED-TTL:PT1H
BEGIN:VTIMEZONE
TZID:America/New_York
BEGIN:DAYLIGHT
TZOFFSETFROM:-0500
TZOFFSETTO:-0400
TZNAME:EDT
DTSTART:20250309T070000
END:DAYLIGHT
BEGIN:STANDARD
TZOFFSETFROM:-0400
TZOFFSETTO:-0500
TZNAME:EST
DTSTART:20251102T060000
END:STANDARD
BEGIN:DAYLIGHT
TZOFFSETFROM:-0500
TZOFFSETTO:-0400
TZNAME:EDT
DTSTART:20260308T070000
END:DAYLIGHT
BEGIN:STANDARD
TZOFFSETFROM:-0400
TZOFFSETTO:-0500
TZNAME:EST
DTSTART:20261101T060000
END:STANDARD
BEGIN:DAYLIGHT
TZOFFSETFROM:-0500
TZOFFSETTO:-0400
TZNAME:EDT
DTSTART:20270314T070000
END:DAYLIGHT
BEGIN:STANDARD
TZOFFSETFROM:-0400
TZOFFSETTO:-0500
TZNAME:EST
DTSTART:20271107T060000
END:STANDARD
END:VTIMEZONE
BEGIN:VEVENT
DTSTART;TZID=America/New_York:20260401T190000
DTEND;TZID=America/New_York:20260401T210000
DTSTAMP:20260420T220651
CREATED:20260216T184833Z
LAST-MODIFIED:20260325T203342Z
UID:39863-1775070000-1775077200@lakewoodmusicboosters.com
SUMMARY:Eighth Grade Band Festival
DESCRIPTION:Come hear the Lakewood High School Symphonic Band\, Wind Ensemble\, and special guests: the Lakewood City Schools 8th Grade Bands. This will be an exciting side-by-side concert where our 8th Grade Band students get to hear what awaits them at the high school! \nTickets \nVolunteer  \nLivestream
URL:https://lakewoodmusicboosters.com/event/eighth-grade-band-festival/
LOCATION:Lakewood Civic Auditorium
CATEGORIES:event
END:VEVENT
BEGIN:VEVENT
DTSTART;TZID=America/New_York:20260413T183000
DTEND;TZID=America/New_York:20260413T193000
DTSTAMP:20260420T220651
CREATED:20260109T022914Z
LAST-MODIFIED:20260109T022914Z
UID:39817-1776105000-1776108600@lakewoodmusicboosters.com
SUMMARY:April Music Boosters Meeting
DESCRIPTION:
URL:https://lakewoodmusicboosters.com/event/april-music-boosters-meeting/
LOCATION:Lakewood High School Band Room\, 14100 Franklin Blvd.\, LAKEWOOD\, OH\, 44107\, United States
CATEGORIES:Meeting
END:VEVENT
BEGIN:VEVENT
DTSTART;TZID=America/New_York:20260416T190000
DTEND;TZID=America/New_York:20260416T203000
DTSTAMP:20260420T220651
CREATED:20260216T185244Z
LAST-MODIFIED:20260216T185244Z
UID:39865-1776366000-1776371400@lakewoodmusicboosters.com
SUMMARY:Lakewood Sings: Elementary Pops Concert
DESCRIPTION:Volunteer \nLivestream
URL:https://lakewoodmusicboosters.com/event/lakewood-sings-elementary-pops-concert/
LOCATION:Lakewood Civic Auditorium
END:VEVENT
BEGIN:VEVENT
DTSTART;TZID=America/New_York:20260420T080000
DTEND;TZID=America/New_York:20260420T170000
DTSTAMP:20260420T220651
CREATED:20260420T172730Z
LAST-MODIFIED:20260420T172730Z
UID:39946-1776672000-1776704400@lakewoodmusicboosters.com
SUMMARY:Lakewood Eighth Grade Spring Concert
DESCRIPTION:Performing Live: The Lakewood City Schools 8th Grade Orchestra\, Choir\, and Band. \nTickets \nVolunteer \nLivestream
URL:https://lakewoodmusicboosters.com/event/lakewood-eighth-grade-spring-concert/
LOCATION:Ohio
END:VEVENT
BEGIN:VEVENT
DTSTART;TZID=America/New_York:20260424T190000
DTEND;TZID=America/New_York:20260424T210000
DTSTAMP:20260420T220651
CREATED:20260216T185443Z
LAST-MODIFIED:20260420T172149Z
UID:39867-1777057200-1777064400@lakewoodmusicboosters.com
SUMMARY:LHS Spring Orchestra Concert
DESCRIPTION:The orchestras from LHS will present a concert featuring performances from String/Philharmonia\, Camerata\, Symphony\, and Chamber Orchestras! This concert will include senior concertos and a celebration of all graduating seniors in the orchestra. \nTickets \nVolunteer  \nLivestream
URL:https://lakewoodmusicboosters.com/event/lhs-spring-orchestra-concert/
LOCATION:Lakewood Civic Auditorium
END:VEVENT
BEGIN:VEVENT
DTSTART;TZID=America/New_York:20260425T190000
DTEND;TZID=America/New_York:20260425T210000
DTSTAMP:20260420T220651
CREATED:20260216T185945Z
LAST-MODIFIED:20260420T172038Z
UID:39869-1777143600-1777150800@lakewoodmusicboosters.com
SUMMARY:LHS Spring Jazz Concert
DESCRIPTION:Join the Lakewood High School Jazz Workshop\, Jazz Band\, and LHS Alumni Jazz Band at The Lakewood Civic Auditorium as they perform jazz standards ranging from swing to funk and everything in between! You won’t want to miss this performance. We will be welcoming back former directors Brian Maskow and Dale Hildebrand along with our alumni jazz band members! \nTickets \nVolunteer \nLivestream
URL:https://lakewoodmusicboosters.com/event/lhs-spring-jazz-concert/
LOCATION:Lakewood Civic Auditorium
END:VEVENT
BEGIN:VEVENT
DTSTART;TZID=America/New_York:20260430T190000
DTEND;TZID=America/New_York:20260430T210000
DTSTAMP:20260420T220651
CREATED:20260216T190443Z
LAST-MODIFIED:20260216T190536Z
UID:39871-1777575600-1777582800@lakewoodmusicboosters.com
SUMMARY:LHS Choir Cabaret in the Black Box Theater
DESCRIPTION:Not to be missed! This exciting new tradition features solos and small groups showcasing the incredible talent of our high school choir students: from jazz\, musical theater\, pop\, rock\, and beyond\, you won’t want to miss a chance to see our students shine in a fresh and unique way! \nChoir Cabaret will be catered with light refreshments. \nTickets are limited and pre-sale only—last day to get tickets is April 16! \nVolunteer \nLivestream
URL:https://lakewoodmusicboosters.com/event/lhs-choir-cabaret-in-the-black-box-theater/
LOCATION:Lakewood High – Black Box Theater\, 14100 Franklin Blvd\, Lakewood\, Ohio\, 44107
END:VEVENT
BEGIN:VEVENT
DTSTART;TZID=America/New_York:20260507T190000
DTEND;TZID=America/New_York:20260507T210000
DTSTAMP:20260420T220651
CREATED:20260325T203851Z
LAST-MODIFIED:20260325T203851Z
UID:39892-1778180400-1778187600@lakewoodmusicboosters.com
SUMMARY:LHS Spring Choral Concert
DESCRIPTION:Every high school choir participates in this evening of singing where we honor our seniors! \nTickets \nLivestream \nVolunteer
URL:https://lakewoodmusicboosters.com/event/lhs-spring-choral-concert-5/
LOCATION:Lakewood Civic Auditorium
ATTACH;FMTTYPE=image/png:https://lakewoodmusicboosters.com/wp-content/uploads/2025/08/Choir-image.png
END:VEVENT
BEGIN:VEVENT
DTSTART;TZID=America/New_York:20260511T190000
DTEND;TZID=America/New_York:20260511T210000
DTSTAMP:20260420T220651
CREATED:20260420T173153Z
LAST-MODIFIED:20260420T173153Z
UID:39948-1778526000-1778533200@lakewoodmusicboosters.com
SUMMARY:LHS Bands Spring Concert
DESCRIPTION:Volunteer \nLivestream
URL:https://lakewoodmusicboosters.com/event/lhs-bands-spring-concert-4/
LOCATION:Lakewood Civic Auditorium
END:VEVENT
BEGIN:VEVENT
DTSTART;TZID=America/New_York:20260512T190000
DTEND;TZID=America/New_York:20260512T203000
DTSTAMP:20260420T220651
CREATED:20260421T002845Z
LAST-MODIFIED:20260421T002856Z
UID:39951-1778612400-1778617800@lakewoodmusicboosters.com
SUMMARY:Sixth Grade Spring Concert
DESCRIPTION:The Lakewood City Schools 6th Grade Orchestra\, Choir\, and Band. \nTickets \nVolunteer \nLivestream
URL:https://lakewoodmusicboosters.com/event/sixth-grade-spring-concert/
LOCATION:Ohio
END:VEVENT
BEGIN:VEVENT
DTSTART;TZID=America/New_York:20260514T190000
DTEND;TZID=America/New_York:20260514T203000
DTSTAMP:20260420T220651
CREATED:20260421T003339Z
LAST-MODIFIED:20260421T003427Z
UID:39953-1778785200-1778790600@lakewoodmusicboosters.com
SUMMARY:Seventh Grade Spring Concert
DESCRIPTION:The Lakewood City Schools 7th Grade Orchestra\, Choir\, and Band. \nTickets \nVolunteer \nLivestream 
URL:https://lakewoodmusicboosters.com/event/seventh-grade-spring-concert/
LOCATION:Lakewood Civic Auditorium
END:VEVENT
BEGIN:VEVENT
DTSTART;TZID=America/New_York:20260518T183000
DTEND;TZID=America/New_York:20260518T193000
DTSTAMP:20260420T220651
CREATED:20260109T023007Z
LAST-MODIFIED:20260420T171849Z
UID:39819-1779129000-1779132600@lakewoodmusicboosters.com
SUMMARY:Rescheduled to May 18- May Music Boosters Meeting
DESCRIPTION:Join us in the LHS Band room for our last Music Booster Meeting of the 25-26 school year!
URL:https://lakewoodmusicboosters.com/event/may-music-boosters-meeting/
LOCATION:Lakewood High School Band Room\, 14100 Franklin Blvd.\, LAKEWOOD\, OH\, 44107\, United States
CATEGORIES:Meeting
END:VEVENT
BEGIN:VEVENT
DTSTART;TZID=America/New_York:20260520T190000
DTEND;TZID=America/New_York:20260520T200000
DTSTAMP:20260420T220651
CREATED:20260421T003910Z
LAST-MODIFIED:20260421T003910Z
UID:39955-1779303600-1779307200@lakewoodmusicboosters.com
SUMMARY:Fifth Grade Instrumental Concert- Free and Open to the Public!
DESCRIPTION:Students from all of Lakewood City Schools’ Elementary Band and Orchestra Programs. Concert is free and open to the public. \nVolunteer\nLivestream
URL:https://lakewoodmusicboosters.com/event/fifth-grade-instrumental-concert-free-and-open-to-the-public/
LOCATION:Lakewood Civic Auditorium
END:VEVENT
END:VCALENDAR