BEGIN:VCALENDAR
VERSION:2.0
PRODID:-//Lakewood Music Boosters - ECPv6.15.20//NONSGML v1.0//EN
CALSCALE:GREGORIAN
METHOD:PUBLISH
X-WR-CALNAME:Lakewood Music Boosters
X-ORIGINAL-URL:https://lakewoodmusicboosters.com
X-WR-CALDESC:Events for Lakewood Music Boosters
REFRESH-INTERVAL;VALUE=DURATION:PT1H
X-Robots-Tag:noindex
X-PUBLISHED-TTL:PT1H
BEGIN:VTIMEZONE
TZID:America/New_York
BEGIN:DAYLIGHT
TZOFFSETFROM:-0500
TZOFFSETTO:-0400
TZNAME:EDT
DTSTART:20230312T070000
END:DAYLIGHT
BEGIN:STANDARD
TZOFFSETFROM:-0400
TZOFFSETTO:-0500
TZNAME:EST
DTSTART:20231105T060000
END:STANDARD
BEGIN:DAYLIGHT
TZOFFSETFROM:-0500
TZOFFSETTO:-0400
TZNAME:EDT
DTSTART:20240310T070000
END:DAYLIGHT
BEGIN:STANDARD
TZOFFSETFROM:-0400
TZOFFSETTO:-0500
TZNAME:EST
DTSTART:20241103T060000
END:STANDARD
BEGIN:DAYLIGHT
TZOFFSETFROM:-0500
TZOFFSETTO:-0400
TZNAME:EDT
DTSTART:20250309T070000
END:DAYLIGHT
BEGIN:STANDARD
TZOFFSETFROM:-0400
TZOFFSETTO:-0500
TZNAME:EST
DTSTART:20251102T060000
END:STANDARD
BEGIN:DAYLIGHT
TZOFFSETFROM:-0500
TZOFFSETTO:-0400
TZNAME:EDT
DTSTART:20260308T070000
END:DAYLIGHT
BEGIN:STANDARD
TZOFFSETFROM:-0400
TZOFFSETTO:-0500
TZNAME:EST
DTSTART:20261101T060000
END:STANDARD
END:VTIMEZONE
BEGIN:VEVENT
DTSTART;TZID=America/New_York:20251216T190000
DTEND;TZID=America/New_York:20251216T200000
DTSTAMP:20260421T103317
CREATED:20250830T221502Z
LAST-MODIFIED:20251120T023220Z
UID:39493-1765911600-1765915200@lakewoodmusicboosters.com
SUMMARY:Eighth Grade Winter Instrumental Concert
DESCRIPTION:Performing Live: the Lakewood City Schools 8th Grade Orchestra and Band. Performing students do NOT need a ticket. \n\nSenior Ticket – $1.00\n\n\nAdult Ticket – $2.00\n\n\nStudent Ticket – $1.00\n\n\nTickets\n\nAble to volunteer? 
URL:https://lakewoodmusicboosters.com/event/eighth-grade-winter-instrumental-concert/
LOCATION:OH
CATEGORIES:event
ATTACH;FMTTYPE=image/png:https://lakewoodmusicboosters.com/wp-content/uploads/2025/08/7th-grade-concert.png
END:VEVENT
BEGIN:VEVENT
DTSTART;TZID=America/New_York:20251211T190000
DTEND;TZID=America/New_York:20251211T210000
DTSTAMP:20260421T103317
CREATED:20250830T221346Z
LAST-MODIFIED:20251120T022657Z
UID:39490-1765479600-1765486800@lakewoodmusicboosters.com
SUMMARY:Eighth Grade Winter Choral Concert with Lakewood High School 2025
DESCRIPTION:An evening of tradition and choral music featuring our 8th grade choir\, Symphonic Treble Choir\, Vive L’Four\, Fourtes\, Chamber Choir\, and choir alumni. A bake sale will go on in the lobby during the event to support the choir programs.  \nTicket Options: \nStudent – $1 \nSenior – $2 \nAdult – $3 \nFamily Ticket (2 Adults and 2 students/seniors) – $10 \nCouple’s Ticket (2 Adults) – $6 \nTickets \nAble to Volunteer? 
URL:https://lakewoodmusicboosters.com/event/eighth-grade-winter-concert-with-lakewood-high-school/
LOCATION:Lakewood Civic Auditorium
CATEGORIES:event
ATTACH;FMTTYPE=image/png:https://lakewoodmusicboosters.com/wp-content/uploads/2025/08/Choir-image.png
END:VEVENT
BEGIN:VEVENT
DTSTART;TZID=America/New_York:20251210T190000
DTEND;TZID=America/New_York:20251210T203000
DTSTAMP:20260421T103317
CREATED:20250830T221240Z
LAST-MODIFIED:20251120T022242Z
UID:39488-1765393200-1765398600@lakewoodmusicboosters.com
SUMMARY:Seventh Grade Winter Concert
DESCRIPTION:Live: the Lakewood City Schools 7th Grade Orchestra\, Choir\, and Band. Student performers do not need a ticket.  \n\nAdult Ticket – $2.00\n\n\nSenior Ticket – $1.00\n\n\nStudent Ticket – $1.00\n\nTickets \nInterested in volunteering? \n  \n 
URL:https://lakewoodmusicboosters.com/event/seventh-grade-winter-concert/
LOCATION:Lakewood Civic Auditorium
CATEGORIES:event
ATTACH;FMTTYPE=image/png:https://lakewoodmusicboosters.com/wp-content/uploads/2025/08/7th-grade-concert.png
END:VEVENT
BEGIN:VEVENT
DTSTART;TZID=America/New_York:20251209T190000
DTEND;TZID=America/New_York:20251209T203000
DTSTAMP:20260421T103317
CREATED:20250830T221114Z
LAST-MODIFIED:20251120T021513Z
UID:39486-1765306800-1765312200@lakewoodmusicboosters.com
SUMMARY:Silver and Gold Concert
DESCRIPTION:Come and join the Band\, Choir\, and Orchestra students for an evening of music featuring: Concert Band\, Soprano/Alto Choir\, String & Philharmonia Orchestra\, Symphonic Band\, Tenor/Bass Choir\, and Camerata Orchestra. \n\nStudent Ticket – $1.00\n\n\nSenior Ticket – $2.00\n\n\nAdult Ticket – $3.00\n\n\nCouple’s Ticket (2 Adults) – $6.00\n\n\nFamily Ticket (2 Adults and 2 students/seniors) – $10.00\n\nTickets \nInterested in volunteering?
URL:https://lakewoodmusicboosters.com/event/silver-and-gold-concert-3/
LOCATION:Lakewood Civic Auditorium
CATEGORIES:event
ATTACH;FMTTYPE=image/jpeg:https://lakewoodmusicboosters.com/wp-content/uploads/2025/08/silver-and-gold.jpg
END:VEVENT
BEGIN:VEVENT
DTSTART;TZID=America/New_York:20251205T190000
DTEND;TZID=America/New_York:20251205T220000
DTSTAMP:20260421T103317
CREATED:20250830T220947Z
LAST-MODIFIED:20251120T020554Z
UID:39483-1764961200-1764972000@lakewoodmusicboosters.com
SUMMARY:Sounds of the Seasons Concert
DESCRIPTION:Kick off the Holiday Season with Lakewood High School’s top musical ensembles as they perform some of your favorite holiday classics. Don’t forget to put your name in the raffle to play the whip in Sleigh Ride! You won’t want to miss this Lakewood tradition. \n\n Presale Adult – $8.00\n\n\n Presale Student – $4.00\n\n\n Presale Family Package (2 adult tickets and 2 children) – $22.00\n\n\n Presale Adult Package (2 adult tickets) – $15.00\n\nTickets\n\nAble to volunteer?  \n 
URL:https://lakewoodmusicboosters.com/event/sounds-of-the-seasons-concert/
LOCATION:Lakewood Civic Auditorium
CATEGORIES:event
ATTACH;FMTTYPE=image/jpeg:https://lakewoodmusicboosters.com/wp-content/uploads/2025/08/Sounds-of-the-season.jpg
END:VEVENT
BEGIN:VEVENT
DTSTART;TZID=America/New_York:20251125T193000
DTEND;TZID=America/New_York:20251125T220000
DTSTAMP:20260421T103317
CREATED:20250830T220247Z
LAST-MODIFIED:20250905T172626Z
UID:39474-1764099000-1764108000@lakewoodmusicboosters.com
SUMMARY:EC50\, A Celebration of Eric Carmen’s Musical Legacy
DESCRIPTION:A tribute concert commemorating the 50th Anniversary of Eric Carmen’s first solo album. Featuring the Eric Carmen Band\, (a group of recording and touring musicians/vocalists who have played with Eric in the past\,) the Lakewood Project and the Lakewood High School Orchestra with alumni members as section leaders. Volunteers Needed!
URL:https://lakewoodmusicboosters.com/event/ec50-a-celebration-of-eric-carmens-musical-legacy/
LOCATION:Lakewood Civic Auditorium
CATEGORIES:event
ATTACH;FMTTYPE=image/png:https://lakewoodmusicboosters.com/wp-content/uploads/2025/08/EC50-Gold-Album-Art-on-Black-with-Full-Text-7.3.2025-01-scaled.png
END:VEVENT
BEGIN:VEVENT
DTSTART;TZID=America/New_York:20251120T183000
DTEND;TZID=America/New_York:20251120T203000
DTSTAMP:20260421T103317
CREATED:20251017T011657Z
LAST-MODIFIED:20251017T011657Z
UID:39713-1763663400-1763670600@lakewoodmusicboosters.com
SUMMARY:Zombeo and Juliet
DESCRIPTION:Harding Middle School Drama Club Fall Play:\nZombeo and Juliet\nHarding Cafeteria \n6:30 pm \nBook by Kathy Martin and Phil Nohl\nProduced by special arrangement with\nPioneer Drama Service\, Inc.\,\nEnglewood\, Colorado
URL:https://lakewoodmusicboosters.com/event/zombeo-and-juliet/
LOCATION:Harding Middle School
CATEGORIES:event
ATTACH;FMTTYPE=image/png:https://lakewoodmusicboosters.com/wp-content/uploads/2025/10/Zombeo-and-Juliet.png
END:VEVENT
BEGIN:VEVENT
DTSTART;TZID=America/New_York:20251028T190000
DTEND;TZID=America/New_York:20251028T210000
DTSTAMP:20260421T103317
CREATED:20250830T220709Z
LAST-MODIFIED:20251017T023219Z
UID:39480-1761678000-1761685200@lakewoodmusicboosters.com
SUMMARY:Lakewood Rangers Marching Band Concert
DESCRIPTION:Join us to celebrate the close of the Lakewood Marching Band 2025 season with this FREE Concert! Open to the public! \nLive Stream Here: https://www.youtube.com/watch?v=oLztzCBSuXM
URL:https://lakewoodmusicboosters.com/event/lakewood-rangers-marching-band-concert/
LOCATION:Lakewood Civic Auditorium
CATEGORIES:event
ATTACH;FMTTYPE=image/jpeg:https://lakewoodmusicboosters.com/wp-content/uploads/2025/08/LHSMB.jpg
END:VEVENT
BEGIN:VEVENT
DTSTART;TZID=America/New_York:20251023T190000
DTEND;TZID=America/New_York:20251023T210000
DTSTAMP:20260421T103317
CREATED:20251015T025200Z
LAST-MODIFIED:20251015T025615Z
UID:39685-1761246000-1761253200@lakewoodmusicboosters.com
SUMMARY:Garfield Fall Play
DESCRIPTION:Garfield Middle School Drama Club Fall Play:\nThe Murder Mystery at the Murder Mystery\n \nPerformances will be at 7:00 PM Thursday\, October 23 and Friday\, October 24\, 2025 at the Garfield Middle School Cafetorium. \n 
URL:https://lakewoodmusicboosters.com/event/garfield-fall-play-5/
LOCATION:Garfield Middle School\, 13114 Detroit Ave\,\, Lakewood\, OH\, United States
CATEGORIES:event
ATTACH;FMTTYPE=image/jpeg:https://lakewoodmusicboosters.com/wp-content/uploads/2025/10/Murder-Mystery-at-the-MM-2-scaled.jpg
END:VEVENT
BEGIN:VEVENT
DTSTART;TZID=America/New_York:20251001T190000
DTEND;TZID=America/New_York:20251001T210000
DTSTAMP:20260421T103317
CREATED:20250830T215709Z
LAST-MODIFIED:20250919T121641Z
UID:39471-1759345200-1759352400@lakewoodmusicboosters.com
SUMMARY:Orchestra POPS Concert
DESCRIPTION:The orchestras from Harding and Garfield Middle School will sit side by side with the LHS orchestras as we perform our Fall Pops Concert. Come and enjoy music that is familiar\, spooky\, and fun. Musicians will be dressed in costumes. Come and celebrate an hour of great music. \nPurchase Tickets Here! \nSign up to Volunteer! 
URL:https://lakewoodmusicboosters.com/event/orchestra-pops-concert-6/
LOCATION:Lakewood Civic Auditorium
CATEGORIES:event
ATTACH;FMTTYPE=image/jpeg:https://lakewoodmusicboosters.com/wp-content/uploads/2025/08/julio-rionaldo-xIoze9dH4WI-unsplash-scaled.jpg
END:VEVENT
BEGIN:VEVENT
DTSTART;TZID=America/New_York:20250920T180000
DTEND;TZID=America/New_York:20250920T213000
DTSTAMP:20260421T103317
CREATED:20250830T215526Z
LAST-MODIFIED:20250910T040655Z
UID:39469-1758391200-1758403800@lakewoodmusicboosters.com
SUMMARY:2025 Lakewood Marching Band Festival
DESCRIPTION:Our 38th annual marching band festival will take place once again on September 20 and feature 8 of the best Cleveland area marching bands. Get your tickets now to see the Beachwood\, Brush\, Cuyahoga Heights\, Fairview\, Olmsted Falls\, Westlake\, and Lakewood High School marching bands! In addition\, the Mount Union Purple Raiders will take the field as our featured college marching band. Ticket prices increase the day of the festival\, so get your tickets early! \n*This year’s festival will be online sales only. NO cash will be accepted at the gates for tickets or programs. Concessions will accept cash.* \nFollowing tickets on sale until midnight of Sept. 19 \nPresale Adult – $8 ($10 day of) \nPresale Seniors (55+) – $6 ($8 day of) \nPresale Students – $3 ($5 day of) \nPresale Full Color Festival Programs (200 Available) – $6 ($8 day of – quantities limited) \nPrices increase to “day of” prices beginning on Sept. 20. \nSign Up to Volunteer!  \n 
URL:https://lakewoodmusicboosters.com/event/2025-lakewood-marching-band-festival/
LOCATION:Lakewood High Stadium\, 14100 Franklin Blvd\, Lakewood\, Ohio\, 44107
CATEGORIES:event
ATTACH;FMTTYPE=image/jpeg:https://lakewoodmusicboosters.com/wp-content/uploads/2025/08/Band-Festival.jpg
END:VEVENT
BEGIN:VEVENT
DTSTART;TZID=America/New_York:20241218T190000
DTEND;TZID=America/New_York:20241218T190000
DTSTAMP:20260421T103317
CREATED:20241125T204659Z
LAST-MODIFIED:20241125T213046Z
UID:39178-1734548400-1734548400@lakewoodmusicboosters.com
SUMMARY:6th Grade Winter Concert
DESCRIPTION:On-line ticket sales https://www.payschoolsevents.com/events/details/36933 \nLivestream Link https://www.youtube.com/watch?v=APrVxITd6rI
URL:https://lakewoodmusicboosters.com/event/6th-grade-winter-concert-3/
LOCATION:OH
CATEGORIES:event
END:VEVENT
BEGIN:VEVENT
DTSTART;VALUE=DATE:20241107
DTEND;VALUE=DATE:20241110
DTSTAMP:20260421T103317
CREATED:20241103T160221Z
LAST-MODIFIED:20241103T160221Z
UID:39064-1730937600-1731196799@lakewoodmusicboosters.com
SUMMARY:How To Make Audio Flowers by Alvaro Saar Rios
DESCRIPTION:Lakewood High School Barnstormers presents the Northeast Ohio premiere of How To Make Audio Flowers by Alvaro Saar Rios\, November 7-9. \nIn a world a hundred years in the future\, a group of teens meets to find meaning in a society where music has been banned. Join them as they learn about the resistance movement and create audio flowers together. \n$10 General Admission \n$8 Seniors (60+) \n$5 Students
URL:https://lakewoodmusicboosters.com/event/lhs-barnstormers-fall-play/
LOCATION:Lakewood High – Black Box Theater\, 14100 Franklin Blvd\, Lakewood\, Ohio\, 44107
CATEGORIES:event
ATTACH;FMTTYPE=image/jpeg:https://lakewoodmusicboosters.com/wp-content/uploads/2024/11/audio-flowers.jpg
END:VEVENT
BEGIN:VEVENT
DTSTART;VALUE=DATE:20241107
DTEND;VALUE=DATE:20241109
DTSTAMP:20260421T103317
CREATED:20241103T160630Z
LAST-MODIFIED:20241103T160630Z
UID:39070-1730937600-1731110399@lakewoodmusicboosters.com
SUMMARY:Garfield MS Drama Club Fall Play Romeo & Winifred: A Tragical Comedy in Two and a Half Acts
DESCRIPTION:Garfield MS Drama Club Fall Play – Romeo & Winifred: A Tragical Comedy in Two and a Half Acts.  Performances will be at 7:00 PM Thursday\, November 7 and Friday\, November 8\, 2024 at the Garfield Middle School Cafetorium.
URL:https://lakewoodmusicboosters.com/event/garfield-ms-drama-club-fall-play-romeo-winifred-a-tragical-comedy-in-two-and-a-half-acts/
LOCATION:Garfield Middle School\, 13114 Detroit Ave\,\, Lakewood\, OH\, United States
CATEGORIES:event
ATTACH;FMTTYPE=image/jpeg:https://lakewoodmusicboosters.com/wp-content/uploads/2024/11/garfield.jpg
END:VEVENT
BEGIN:VEVENT
DTSTART;TZID=America/New_York:20241026T120000
DTEND;TZID=America/New_York:20241026T150000
DTSTAMP:20260421T103317
CREATED:20240920T135725Z
LAST-MODIFIED:20240925T145239Z
UID:38976-1729944000-1729954800@lakewoodmusicboosters.com
SUMMARY:Feet to the Street Fundraiser
DESCRIPTION:On October 26 from 12 – 3 PM\, students from our music and performing arts programs will take their “Feet to the Street” to thank our neighbors for their support\, and to invite them to attend a performance this year. This event also serves as a fundraiser for the Music Boosters\, which supports programs throughout the district. Make sure you sign up for the correct slot as either an adult chaperone or a student. \nMore info… \nPlease sign up as soon as possible!
URL:https://lakewoodmusicboosters.com/event/feet-to-the-street-fundraiser/
LOCATION:OH
CATEGORIES:event
ATTACH;FMTTYPE=image/png:https://lakewoodmusicboosters.com/wp-content/uploads/2024/09/Feet-to-the-Street.png
END:VEVENT
BEGIN:VEVENT
DTSTART;TZID=America/New_York:20241009T190000
DTEND;TZID=America/New_York:20241009T190000
DTSTAMP:20260421T103317
CREATED:20240925T141507Z
LAST-MODIFIED:20241009T212038Z
UID:38990-1728500400-1728500400@lakewoodmusicboosters.com
SUMMARY:Lakewood High School Classics Symposium
DESCRIPTION:Join us for the first band and choir concert of the season! Wind Ensemble\, Symphonic Treble Choir\, and Symphonic Mixed Choir will perform American folk and classical selections. The choirs will be joined by the Amethyst String Quartet. \nWhen:    Wednesday\, October 9\, 2024 \nTime:    7:00 PM \nTickets: \nAdults:    $3.00 \nSeniors:    $2.00 \nStudents:    $1.00 \nFamily Ticket (2 Adults and 2 Students/Seniors) -$10 \nCouple’s Ticket (2 Adults) $6 \nView the livestream: https://www.youtube.com/watch?v=U0vtgkFdSVY \nVOLUNTEER https://www.signupgenius.com/go/10C0E4AA5AB29A1FFC61-51907317-lakewood
URL:https://lakewoodmusicboosters.com/event/lakewood-high-school-classics-symposium/
LOCATION:Lakewood Civic Auditorium
CATEGORIES:event
END:VEVENT
BEGIN:VEVENT
DTSTART;TZID=America/New_York:20241003T190000
DTEND;TZID=America/New_York:20241003T200000
DTSTAMP:20260421T103317
CREATED:20240919T205405Z
LAST-MODIFIED:20241001T132432Z
UID:38962-1727982000-1727985600@lakewoodmusicboosters.com
SUMMARY:Orchestra POPS Concert
DESCRIPTION:Check for volunteer opportunities on SignUp Genius!
URL:https://lakewoodmusicboosters.com/event/orchestra-pops-concert-5/
LOCATION:Lakewood Civic Auditorium
CATEGORIES:event
END:VEVENT
BEGIN:VEVENT
DTSTART;VALUE=DATE:20241001
DTEND;VALUE=DATE:20241012
DTSTAMP:20260421T103317
CREATED:20241001T135409Z
LAST-MODIFIED:20241001T135409Z
UID:39007-1727740800-1728691199@lakewoodmusicboosters.com
SUMMARY:Fall 2024 Fundraiser with Lakewood Black Label
DESCRIPTION:The Lakewood Music Boosters Fall 2024 Fundraiser is here! Shop exclusive Choir\, Band\, and Orchestra merch and help our students shine. 💜💛 \nVisit discoverblacklabel.com between September 30 and October 11 to browse the collection and place your order. Items will be delivered the week of October 28\, just in time to layer up with some Ranger pride as the weather cools down! \n\n \nThank You for Supporting Lakewood Music!
URL:https://lakewoodmusicboosters.com/event/lkwd-blklbl-fall-fundraiser/
LOCATION:OH
CATEGORIES:event
ATTACH;FMTTYPE=image/png:https://lakewoodmusicboosters.com/wp-content/uploads/2024/10/BLK-LBL-2024-EVENT.png
END:VEVENT
END:VCALENDAR