BEGIN:VCALENDAR
VERSION:2.0
PRODID:-//Lakewood Music Boosters - ECPv6.15.20//NONSGML v1.0//EN
CALSCALE:GREGORIAN
METHOD:PUBLISH
X-WR-CALNAME:Lakewood Music Boosters
X-ORIGINAL-URL:https://lakewoodmusicboosters.com
X-WR-CALDESC:Events for Lakewood Music Boosters
REFRESH-INTERVAL;VALUE=DURATION:PT1H
X-Robots-Tag:noindex
X-PUBLISHED-TTL:PT1H
BEGIN:VTIMEZONE
TZID:America/New_York
BEGIN:DAYLIGHT
TZOFFSETFROM:-0500
TZOFFSETTO:-0400
TZNAME:EDT
DTSTART:20230312T070000
END:DAYLIGHT
BEGIN:STANDARD
TZOFFSETFROM:-0400
TZOFFSETTO:-0500
TZNAME:EST
DTSTART:20231105T060000
END:STANDARD
BEGIN:DAYLIGHT
TZOFFSETFROM:-0500
TZOFFSETTO:-0400
TZNAME:EDT
DTSTART:20240310T070000
END:DAYLIGHT
BEGIN:STANDARD
TZOFFSETFROM:-0400
TZOFFSETTO:-0500
TZNAME:EST
DTSTART:20241103T060000
END:STANDARD
BEGIN:DAYLIGHT
TZOFFSETFROM:-0500
TZOFFSETTO:-0400
TZNAME:EDT
DTSTART:20250309T070000
END:DAYLIGHT
BEGIN:STANDARD
TZOFFSETFROM:-0400
TZOFFSETTO:-0500
TZNAME:EST
DTSTART:20251102T060000
END:STANDARD
END:VTIMEZONE
BEGIN:VEVENT
DTSTART;TZID=America/New_York:20241207T110000
DTEND;TZID=America/New_York:20241207T150000
DTSTAMP:20260422T051540
CREATED:20241125T202135Z
LAST-MODIFIED:20241204T183031Z
UID:39158-1733569200-1733583600@lakewoodmusicboosters.com
SUMMARY:LHS Light Up Lakewood and Brunch with Santa
DESCRIPTION:Brunch with Santa Tickets and details  https://givebutter.com/1a4NsD \nVolunteer here
URL:https://lakewoodmusicboosters.com/event/lhs-light-up-lakewood-and-brunch-with-santa/
END:VEVENT
END:VCALENDAR