BEGIN:VCALENDAR
VERSION:2.0
PRODID:-//Lakewood Music Boosters - ECPv6.15.20//NONSGML v1.0//EN
CALSCALE:GREGORIAN
METHOD:PUBLISH
X-ORIGINAL-URL:https://lakewoodmusicboosters.com
X-WR-CALDESC:Events for Lakewood Music Boosters
REFRESH-INTERVAL;VALUE=DURATION:PT1H
X-Robots-Tag:noindex
X-PUBLISHED-TTL:PT1H
BEGIN:VTIMEZONE
TZID:America/New_York
BEGIN:DAYLIGHT
TZOFFSETFROM:-0500
TZOFFSETTO:-0400
TZNAME:EDT
DTSTART:20230312T070000
END:DAYLIGHT
BEGIN:STANDARD
TZOFFSETFROM:-0400
TZOFFSETTO:-0500
TZNAME:EST
DTSTART:20231105T060000
END:STANDARD
BEGIN:DAYLIGHT
TZOFFSETFROM:-0500
TZOFFSETTO:-0400
TZNAME:EDT
DTSTART:20240310T070000
END:DAYLIGHT
BEGIN:STANDARD
TZOFFSETFROM:-0400
TZOFFSETTO:-0500
TZNAME:EST
DTSTART:20241103T060000
END:STANDARD
BEGIN:DAYLIGHT
TZOFFSETFROM:-0500
TZOFFSETTO:-0400
TZNAME:EDT
DTSTART:20250309T070000
END:DAYLIGHT
BEGIN:STANDARD
TZOFFSETFROM:-0400
TZOFFSETTO:-0500
TZNAME:EST
DTSTART:20251102T060000
END:STANDARD
END:VTIMEZONE
BEGIN:VEVENT
DTSTART;VALUE=DATE:20241127
DTEND;VALUE=DATE:20241128
DTSTAMP:20260422T034549
CREATED:20241121T171329Z
LAST-MODIFIED:20241125T213444Z
UID:39151-1732665600-1732751999@lakewoodmusicboosters.com
SUMMARY:Dine to Donate at Cilantro Nov 27
DESCRIPTION:RSVP & all details here: https://grouprai.se/f292571 \nLakewood Music Boosters x Cilantro Taqueria GroupRaise Fundraiser\nNovember 27th\n11:00 AM – 9:30 PM\nCilantro Taqueria\, 18260 Detroit Ave\nEat To Support Lakewood Music Boosters! On November 27th from 11:00 AM – 9:30 PM\, Cilantro Taqueria at 18260 Detroit Ave is donating back 20% of sales from Dine-In\, Takeout & Pick up orders to Lakewood Music Boosters! \nRSVP & all details here: https://grouprai.se/f292571 \nWe hope you can join us in eating out for a good cause! \nP.S. Please feel free to invite — and share this event with — your friends and family.
URL:https://lakewoodmusicboosters.com/event/dine-to-donate-at-cilantro-nov-27/
LOCATION:Cilantro Taqueria\, 18260 Detroit Ave\, Lakewood\, Ohio\, 44107
END:VEVENT
END:VCALENDAR