BEGIN:VCALENDAR
VERSION:2.0
PRODID:-//Lakewood Music Boosters - ECPv6.15.20//NONSGML v1.0//EN
CALSCALE:GREGORIAN
METHOD:PUBLISH
X-WR-CALNAME:Lakewood Music Boosters
X-ORIGINAL-URL:https://lakewoodmusicboosters.com
X-WR-CALDESC:Events for Lakewood Music Boosters
REFRESH-INTERVAL;VALUE=DURATION:PT1H
X-Robots-Tag:noindex
X-PUBLISHED-TTL:PT1H
BEGIN:VTIMEZONE
TZID:America/New_York
BEGIN:DAYLIGHT
TZOFFSETFROM:-0500
TZOFFSETTO:-0400
TZNAME:EDT
DTSTART:20230312T070000
END:DAYLIGHT
BEGIN:STANDARD
TZOFFSETFROM:-0400
TZOFFSETTO:-0500
TZNAME:EST
DTSTART:20231105T060000
END:STANDARD
BEGIN:DAYLIGHT
TZOFFSETFROM:-0500
TZOFFSETTO:-0400
TZNAME:EDT
DTSTART:20240310T070000
END:DAYLIGHT
BEGIN:STANDARD
TZOFFSETFROM:-0400
TZOFFSETTO:-0500
TZNAME:EST
DTSTART:20241103T060000
END:STANDARD
BEGIN:DAYLIGHT
TZOFFSETFROM:-0500
TZOFFSETTO:-0400
TZNAME:EDT
DTSTART:20250309T070000
END:DAYLIGHT
BEGIN:STANDARD
TZOFFSETFROM:-0400
TZOFFSETTO:-0500
TZNAME:EST
DTSTART:20251102T060000
END:STANDARD
END:VTIMEZONE
BEGIN:VEVENT
DTSTART;TZID=America/New_York:20240514T190000
DTEND;TZID=America/New_York:20240514T190000
DTSTAMP:20260421T203000
CREATED:20230913T005430Z
LAST-MODIFIED:20240424T123352Z
UID:35502-1715713200-1715713200@lakewoodmusicboosters.com
SUMMARY:LHS Bands Spring Concert
DESCRIPTION:LAKEWOOD HIGH SCHOOL BANDS SPRING CONCERT 2024\nJoin the Lakewood High School Bands as they perform modern works for wind band. You won’t want to miss the collaboration between brass staff from various area colleges and the LHS Wind Ensemble as they perform Eric Ewazen’s “Shadowcatcher.” This work for brass quintet and band musically depicts an eclipse\, among other scenes. This concert will also feature our senior band members. You won’t want to miss it! \nWhen:    May 14th\, 2024 \nTime:    7:00 PM \nTickets: \nStudent-$1 \nSenior-$2 \nAdult-$3 \nFamily Ticket (2 Adults and 2 students/seniors) – $10 \nCouple’s Ticket (2 Adults) – $6 \n  \nLivestream link \nTickets available here
URL:https://lakewoodmusicboosters.com/event/lhs-bands-spring-concert-3/
LOCATION:Lakewood Civic Auditorium
END:VEVENT
END:VCALENDAR