BEGIN:VCALENDAR
VERSION:2.0
PRODID:-//Lakewood Music Boosters - ECPv6.15.20//NONSGML v1.0//EN
CALSCALE:GREGORIAN
METHOD:PUBLISH
X-WR-CALNAME:Lakewood Music Boosters
X-ORIGINAL-URL:https://lakewoodmusicboosters.com
X-WR-CALDESC:Events for Lakewood Music Boosters
REFRESH-INTERVAL;VALUE=DURATION:PT1H
X-Robots-Tag:noindex
X-PUBLISHED-TTL:PT1H
BEGIN:VTIMEZONE
TZID:America/New_York
BEGIN:DAYLIGHT
TZOFFSETFROM:-0500
TZOFFSETTO:-0400
TZNAME:EDT
DTSTART:20230312T070000
END:DAYLIGHT
BEGIN:STANDARD
TZOFFSETFROM:-0400
TZOFFSETTO:-0500
TZNAME:EST
DTSTART:20231105T060000
END:STANDARD
BEGIN:DAYLIGHT
TZOFFSETFROM:-0500
TZOFFSETTO:-0400
TZNAME:EDT
DTSTART:20240310T070000
END:DAYLIGHT
BEGIN:STANDARD
TZOFFSETFROM:-0400
TZOFFSETTO:-0500
TZNAME:EST
DTSTART:20241103T060000
END:STANDARD
BEGIN:DAYLIGHT
TZOFFSETFROM:-0500
TZOFFSETTO:-0400
TZNAME:EDT
DTSTART:20250309T070000
END:DAYLIGHT
BEGIN:STANDARD
TZOFFSETFROM:-0400
TZOFFSETTO:-0500
TZNAME:EST
DTSTART:20251102T060000
END:STANDARD
END:VTIMEZONE
BEGIN:VEVENT
DTSTART;TZID=America/New_York:20240508T190000
DTEND;TZID=America/New_York:20240508T190000
DTSTAMP:20260421T203011
CREATED:20230913T005035Z
LAST-MODIFIED:20240429T230848Z
UID:35496-1715194800-1715194800@lakewoodmusicboosters.com
SUMMARY:LHS Choral Concert
DESCRIPTION:LAKEWOOD HS SPRING CHORAL CONCERT 2024 \n\n\n\nJoin us for an evening of singing where we honor our seniors and celebrate our Lakewood choir community with alumni\, staff\, and student collaboration! This concert will feature the Soprano/Alto\, Tenor/Bass\, Symphonic Treble\, Symphonic Mixed Choirs along with Chamber Choir\, Vive L’Four\, and Fourtes. \nStudent – $1 \nSenior – $2 \nAdult Ticket – $3 \nFamily Ticket (2 Adults and 2 students/seniors) – $10 \nCouple’s Ticket (2 Adults) – $6 \nGeneral Donation \nLive Stream Donation \nTickets available here\n\n\n\n\nLivestream link
URL:https://lakewoodmusicboosters.com/event/lhs-choral-concert-2/
LOCATION:Lakewood Civic Auditorium
END:VEVENT
END:VCALENDAR